BEGIN:VCALENDAR
PRODID:-//bhaktilounge.org.nz//EN
VERSION:2.0
METHOD:PUBLISH
BEGIN:VEVENT
DTSTART;TZID=America/New_York:20160707T180000
DTEND;TZID=America/New_York:20160707T200000
URL:http://bhaktilounge.org.nz/programmes/events/when-the-love-bug-bites-yoga-insights/
SUMMARY:When The Love Bug Bites - Yoga Insights 
LOCATION:
DESCRIPTION:Find out if "the love bug" bites monks too. Bhakti Lounge is proud to present our guest speaker Devamrita Swami, a travelling monk, writer and educator of ancient bhakti yoga wisdom. Presenting the topic of love beyond material affection, "When the Love Bug Bites" will be a two workshop series,...
END:VEVENT
END:VCALENDAR