BEGIN:VCALENDAR
PRODID:-//bhaktilounge.org.nz//EN
VERSION:2.0
METHOD:PUBLISH
BEGIN:VEVENT
DTSTART;TZID=America/New_York:20160712T180000
DTEND;TZID=America/New_York:20160712T200000
URL:http://bhaktilounge.org.nz/programmes/events/sex-love-and-yoga/
SUMMARY:Sex, Love and Yoga - Tuesday Workshop Series 
LOCATION:
DESCRIPTION:Find out more about the connection between love, sex and yoga.
END:VEVENT
END:VCALENDAR