BEGIN:VCALENDAR
PRODID:-//bhaktilounge.org.nz//EN
VERSION:2.0
METHOD:PUBLISH
BEGIN:VEVENT
DTSTART;TZID=America/New_York:20160815T170000
DTEND;TZID=America/New_York:20160815T200000
URL:http://bhaktilounge.org.nz/programmes/events/upcoming-august-workshops/
SUMMARY:Upcoming August Workshops 
LOCATION:
DESCRIPTION:Come along for 5pm yoga, then an interesting workshop followed by a delicious dinner with dessert every Monday and Tuesday! 
END:VEVENT
END:VCALENDAR