BEGIN:VCALENDAR
PRODID:-//bhaktilounge.org.nz//EN
VERSION:2.0
METHOD:PUBLISH
BEGIN:VEVENT
DTSTART;TZID=America/New_York:20160825T170000
DTEND;TZID=America/New_York:20160825T120000
URL:http://bhaktilounge.org.nz/programmes/events/hidden-groves-biggest-party-at-bhakti-lounge/
SUMMARY:Biggest party of our year!
LOCATION:
DESCRIPTION:Hidden Groves - A Journey Into The Forest of Self Discovery (you'll be in for a surprising transformation of our yoga room that evening...it will be very green!) 
END:VEVENT
END:VCALENDAR