BEGIN:VCALENDAR
PRODID:-//bhaktilounge.org.nz//EN
VERSION:2.0
METHOD:PUBLISH
BEGIN:VEVENT
DTSTART;TZID=America/New_York:20160906T180000
DTEND;TZID=America/New_York:20160906T200000
URL:http://bhaktilounge.org.nz/programmes/events/understanding-allergies-tuesday-workshop/
SUMMARY:Understanding Allergies Workshop 
LOCATION:
DESCRIPTION:Ayurveda is one of the world's oldest holistic (whole-body) healing systems. It's a science of medicine designed to bring the body into balance so it can heal itself naturally.
END:VEVENT
END:VCALENDAR