BEGIN:VCALENDAR
PRODID:-//bhaktilounge.org.nz//EN
VERSION:2.0
METHOD:PUBLISH
BEGIN:VEVENT
DTSTART;TZID=America/New_York:20160920T180000
DTEND;TZID=America/New_York:20160920T200000
URL:http://bhaktilounge.org.nz/programmes/events/pop-art/
SUMMARY:Transformation Art Workshops 
LOCATION:
DESCRIPTION:Join Muchukunda, an international street artist, to explore understanding different aspects of yourself through the therapeutic process of art
END:VEVENT
END:VCALENDAR