BEGIN:VCALENDAR
PRODID:-//bhaktilounge.org.nz//EN
VERSION:2.0
METHOD:PUBLISH
BEGIN:VEVENT
DTSTART;TZID=America/New_York:20160911T174500
DTEND;TZID=America/New_York:20160911T200000
URL:http://bhaktilounge.org.nz/programmes/events/upcoming-play/
SUMMARY:Upcoming play!
LOCATION:
DESCRIPTION:
END:VEVENT
END:VCALENDAR