BEGIN:VCALENDAR
PRODID:-//bhaktilounge.org.nz//EN
VERSION:2.0
METHOD:PUBLISH
BEGIN:VEVENT
DTSTART;TZID=America/New_York:20161215T180000
DTEND;TZID=America/New_York:20161215T200000
URL:http://bhaktilounge.org.nz/programmes/events/devamrita-swami-is-in-town/
SUMMARY:Devamrita Swami and End of Year Party!
LOCATION:
DESCRIPTION:Motivational speaker, teacher, author and monk
END:VEVENT
END:VCALENDAR