BEGIN:VCALENDAR
PRODID:-//bhaktilounge.org.nz//EN
VERSION:2.0
METHOD:PUBLISH
BEGIN:VEVENT
DTSTART;TZID=America/New_York:20171002T180000
DTEND;TZID=America/New_York:20171031T190000
URL:http://bhaktilounge.org.nz/programmes/events/tuesday-workshop-series/
SUMMARY:2 for 1 in October!
LOCATION:
DESCRIPTION:For the whole month of October we are having 2 for 1 yoga - introduce a friend to Bhakti Lounge and come for free! Running Monday and Tuesday nights at 6pm for the whole month. Hope to see some fresh new faces! Stick around for a yummy veggie dinner and...
END:VEVENT
END:VCALENDAR