BEGIN:VCALENDAR
PRODID:-//bhaktilounge.org.nz//EN
VERSION:2.0
METHOD:PUBLISH
BEGIN:VEVENT
DTSTART;TZID=America/New_York:20161004T180000
DTEND;TZID=America/New_York:20161004T200000
URL:http://bhaktilounge.org.nz/programmes/events/monthly-ayurveda-workshop/
SUMMARY:The Magic of Self Massage 
LOCATION:
DESCRIPTION:Ayurveda is one of the world's oldest holistic (whole-body) healing systems. It's a science of medicine designed to bring the body into balance so it can heal itself naturally.We are happy to have the lovely Dr Namrata Sambhus with us on the first Tuesday of every month, this month will...
END:VEVENT
END:VCALENDAR