BEGIN:VCALENDAR
PRODID:-//bhaktilounge.org.nz//EN
VERSION:2.0
METHOD:PUBLISH
BEGIN:VEVENT
DTSTART;TZID=America/New_York:20161031T180000
DTEND;TZID=America/New_York:20161031T191500
URL:http://bhaktilounge.org.nz/programmes/events/new-ying-and-yang-yoga-on-mondays/
SUMMARY:New Ying and Yang Yoga on Mondays 
LOCATION:
DESCRIPTION:Bhakti Lounge is launching a new Yin and Yang Flow yoga class to Monday evenings, combining the strong, dynamic movement and flow of yang with the gentle, restorative yin yoga. The yin and yang practices compliment one another to leave your body feeling rejuvenated and revived.
END:VEVENT
END:VCALENDAR