BEGIN:VCALENDAR
PRODID:-//bhaktilounge.org.nz//EN
VERSION:2.0
METHOD:PUBLISH
BEGIN:VEVENT
DTSTART;TZID=America/New_York:20161129T180000
DTEND;TZID=America/New_York:20161129T200000
URL:http://bhaktilounge.org.nz/programmes/events/spiritual-warrior-workshops/
SUMMARY:Spiritual Warrior Series  
LOCATION:
DESCRIPTION:Join Muchu and explore how to battle, or embrace, anger, addiction, depression and laughter, emotions we’re sure everyone is familiar with! He’s encouraging us to in all circumstances be a yogi. What does that mean? Come to the workshops and find out.Tuesday 8th NovAngerHere we distinguish anger as a function...
END:VEVENT
END:VCALENDAR