BEGIN:VCALENDAR
PRODID:-//bhaktilounge.org.nz//EN
VERSION:2.0
METHOD:PUBLISH
BEGIN:VEVENT
DTSTART;TZID=America/New_York:20161213T170000
DTEND;TZID=America/New_York:20161213T180000
URL:http://bhaktilounge.org.nz/programmes/events/closed-due-to-earthquake/
SUMMARY:Rawesome! Vegan Cooking Class
LOCATION:
DESCRIPTION:Rawesome Vegan Cooking Class
END:VEVENT
END:VCALENDAR