BEGIN:VCALENDAR
PRODID:-//bhaktilounge.org.nz//EN
VERSION:2.0
METHOD:PUBLISH
BEGIN:VEVENT
DTSTART;TZID=America/New_York:20161211T174500
DTEND;TZID=America/New_York:20161211T200000
URL:http://bhaktilounge.org.nz/programmes/events/new-bhakti-event-2/
SUMMARY:Amazing History Retold!
LOCATION:
DESCRIPTION:Bhakti-Yoga extends far beyond the walls of Bhakti Lounge, Wellington, NZ and exists on a huge international scale. There are over 650 centres and growing, over 520 million gems of Vedic literature distributed worldwide and growing, world winning Eco villages and farms and growing, and distribution of food relief of...
END:VEVENT
END:VCALENDAR