BEGIN:VCALENDAR
PRODID:-//bhaktilounge.org.nz//EN
VERSION:2.0
METHOD:PUBLISH
BEGIN:VEVENT
DTSTART;TZID=America/New_York:20170115T
DTEND;TZID=America/New_York:20170122T
URL:http://bhaktilounge.org.nz/programmes/events/were-open/
SUMMARY:We're open! 
LOCATION:
DESCRIPTION:We're sure you've missed us,  because we've certainly missed you! 
END:VEVENT
END:VCALENDAR