BEGIN:VCALENDAR
PRODID:-//bhaktilounge.org.nz//EN
VERSION:2.0
METHOD:PUBLISH
BEGIN:VEVENT
DTSTART;TZID=America/New_York:20170131T180000
DTEND;TZID=America/New_York:20170131T200000
URL:http://bhaktilounge.org.nz/programmes/events/tuesday-discussions/
SUMMARY:Tuesday Discussions
LOCATION:
DESCRIPTION:Tuesday 17th 6pm Topic: Dreams 
END:VEVENT
END:VCALENDAR