BEGIN:VCALENDAR
PRODID:-//bhaktilounge.org.nz//EN
VERSION:2.0
METHOD:PUBLISH
BEGIN:VEVENT
DTSTART;TZID=America/New_York:20170403T180000
DTEND;TZID=America/New_York:20170403T200000
URL:http://bhaktilounge.org.nz/programmes/events/introduction-to-ayurveda/
SUMMARY:Introduction To Ayurveda 
LOCATION:
DESCRIPTION:Doctor Namrata, an experienced and practicing Ayurvedic Doctor will be giving an ‘Introduction to Ayurveda’ workshop night next Monday at 6pm. Through Ayurveda we can learn how to take care of our own wellbeing in daily life and to balance our individual constitution through personalised eating and habit lifestyle guides.
END:VEVENT
END:VCALENDAR