BEGIN:VCALENDAR
PRODID:-//bhaktilounge.org.nz//EN
VERSION:2.0
METHOD:PUBLISH
BEGIN:VEVENT
DTSTART;TZID=America/New_York:20170402T
DTEND;TZID=America/New_York:20170430T
URL:http://bhaktilounge.org.nz/programmes/events/april-meditation-month/
SUMMARY:April Meditation Month 
LOCATION:
DESCRIPTION:
END:VEVENT
END:VCALENDAR