BEGIN:VCALENDAR
PRODID:-//bhaktilounge.org.nz//EN
VERSION:2.0
METHOD:PUBLISH
BEGIN:VEVENT
DTSTART;TZID=America/New_York:20170428T180000
DTEND;TZID=America/New_York:20170430T190000
URL:http://bhaktilounge.org.nz/programmes/events/easter-getaway/
SUMMARY:Weekend Getaway 
LOCATION:
DESCRIPTION:Easter wasn't the best time for an escape because most of you were already away! So we decided to postpone the get away till the end of the month to make sure everyone is free to come.Discover how sound can change your world during our getaway in Otaki.
END:VEVENT
END:VCALENDAR