BEGIN:VCALENDAR
PRODID:-//bhaktilounge.org.nz//EN
VERSION:2.0
METHOD:PUBLISH
BEGIN:VEVENT
DTSTART;TZID=America/New_York:20171217T174500
DTEND;TZID=America/New_York:20171217T210000
URL:http://bhaktilounge.org.nz/programmes/events/end-of-year-party/
SUMMARY:End of Year Party!
LOCATION:
DESCRIPTION:Mean vegan feeds. Mantra dance music. Yoga. What more can be said?
END:VEVENT
END:VCALENDAR