BEGIN:VCALENDAR
PRODID:-//bhaktilounge.org.nz//EN
VERSION:2.0
METHOD:PUBLISH
BEGIN:VEVENT
DTSTART;TZID=America/New_York:20170501T180000
DTEND;TZID=America/New_York:20170501T191500
URL:http://bhaktilounge.org.nz/programmes/events/ayurvedic-workshop/
SUMMARY:Ayurvedic Workshop 
LOCATION:
DESCRIPTION:Doctor Namrata, an experienced and practicing Ayurvedic Doctor will be giving a workshop explaining the different types of bodies and psychologies. Through Ayurveda we can learn how to take care of our own wellbeing in daily life and to balance our individual constitution through personalised eating and habit lifestyle guides.Monday...
END:VEVENT
END:VCALENDAR