BEGIN:VCALENDAR
PRODID:-//bhaktilounge.org.nz//EN
VERSION:2.0
METHOD:PUBLISH
BEGIN:VEVENT
DTSTART;TZID=America/New_York:20170424T180000
DTEND;TZID=America/New_York:20170424T191500
URL:http://bhaktilounge.org.nz/programmes/events/new-vinyasa-flow-mondays/
SUMMARY:New Vinyasa Flow Mondays
LOCATION:
DESCRIPTION:Strengthen and lengthen with our new monday Vinyasa flow classes. Vinyasa is a beginner to intermediate class that will get your energy pumping and your muscles working as you flow from one pose to another. Don't underestimate the power of a yoga workout (hint hint, it's not just for the...
END:VEVENT
END:VCALENDAR