BEGIN:VCALENDAR
PRODID:-//bhaktilounge.org.nz//EN
VERSION:2.0
METHOD:PUBLISH
BEGIN:VEVENT
DTSTART;TZID=America/New_York:20170508T180000
DTEND;TZID=America/New_York:20170508T200000
URL:http://bhaktilounge.org.nz/programmes/events/pop-art-therapy/
SUMMARY:Monday 6pm Workshops
LOCATION:
DESCRIPTION:Join Bhakti Lounge's very own street artist to work on creative art projects for inner strength and transformation! No artistic expertise is required, in fact no thing is required, except you, but you aren't a thing so it's all good!
END:VEVENT
END:VCALENDAR