BEGIN:VCALENDAR
PRODID:-//bhaktilounge.org.nz//EN
VERSION:2.0
METHOD:PUBLISH
BEGIN:VEVENT
DTSTART;TZID=America/New_York:20170530T183000
DTEND;TZID=America/New_York:20170530T071500
URL:http://bhaktilounge.org.nz/programmes/events/devamrita-swami-is-in-town-2/
SUMMARY:Devamrita Swami is in town!
LOCATION:
DESCRIPTION:Devamrita Swami is an educator, author, and monk in the Krishna bhakti tradition. For over forty years, he has been traveling the world sharing the teachings and lifestyle of bhakti-yoga. 
END:VEVENT
END:VCALENDAR