BEGIN:VCALENDAR
PRODID:-//bhaktilounge.org.nz//EN
VERSION:2.0
METHOD:PUBLISH
BEGIN:VEVENT
DTSTART;TZID=America/New_York:20170514T054500
DTEND;TZID=America/New_York:20170514T090000
URL:http://bhaktilounge.org.nz/programmes/events/new-bhakti-event-3/
SUMMARY:Soulfeast Party 
LOCATION:
DESCRIPTION:Bhakti Lounge can alway find a reason to put on a party.We know it's not halloween, but for us bhakti yogis it's the time of year for a supreme horror story! Be prepare for a haunted house drama, a tantalising talk and energising dancing, followed by a sumptuous feast at 7pm! Come...
END:VEVENT
END:VCALENDAR