BEGIN:VCALENDAR
PRODID:-//bhaktilounge.org.nz//EN
VERSION:2.0
METHOD:PUBLISH
BEGIN:VEVENT
DTSTART;TZID=America/New_York:20170606T
DTEND;TZID=America/New_York:20170606T
URL:http://bhaktilounge.org.nz/programmes/events/queens-birthday-hours/
SUMMARY:Queens Birthday Hours 
LOCATION:
DESCRIPTION:Bhakti Lounge will be having a wee break over Queens Birthday weekend, we'll be closed Sunday the 4th and Monday the 5th of June. Enjoy your long weekend :) 
END:VEVENT
END:VCALENDAR