BEGIN:VCALENDAR
PRODID:-//bhaktilounge.org.nz//EN
VERSION:2.0
METHOD:PUBLISH
BEGIN:VEVENT
DTSTART;TZID=America/New_York:20170611T174500
DTEND;TZID=America/New_York:20170611T203000
URL:http://bhaktilounge.org.nz/programmes/events/tough-questions/
SUMMARY:Tough Questions Easy Answers 
LOCATION:
DESCRIPTION: What is karma?Why do bad things happen to good people?What is the nature of my real self?Is there any hope for this planet?Bring ANY question you may have about LIFE and beyond and our panel of experienced Bhakti practitioners will answer through the eyes of Yoga!For those feeling shy, no...
END:VEVENT
END:VCALENDAR