BEGIN:VCALENDAR
PRODID:-//bhaktilounge.org.nz//EN
VERSION:2.0
METHOD:PUBLISH
BEGIN:VEVENT
DTSTART;TZID=America/New_York:20170612T180000
DTEND;TZID=America/New_York:20170612T200000
URL:http://bhaktilounge.org.nz/programmes/events/monday-movie-nights/
SUMMARY:Monday Movie Nights 
LOCATION:
DESCRIPTION:
END:VEVENT
END:VCALENDAR