BEGIN:VCALENDAR
PRODID:-//bhaktilounge.org.nz//EN
VERSION:2.0
METHOD:PUBLISH
BEGIN:VEVENT
DTSTART;TZID=America/New_York:20170623T170000
DTEND;TZID=America/New_York:20170625T170000
URL:http://bhaktilounge.org.nz/programmes/events/pop-art-therapy-retreat/
SUMMARY:Pop Art Therapy Retreat
LOCATION:
DESCRIPTION:Join Bhakti Lounge's very own street artist to work on a collaborative creative art project for inner strength and transformation! No artistic expertise is required, in fact no thing is required, except you, but you aren't a thing so it's all good!
END:VEVENT
END:VCALENDAR