BEGIN:VCALENDAR
PRODID:-//bhaktilounge.org.nz//EN
VERSION:2.0
METHOD:PUBLISH
BEGIN:VEVENT
DTSTART;TZID=America/New_York:20170727T180000
DTEND;TZID=America/New_York:20170727T191500
URL:http://bhaktilounge.org.nz/programmes/events/vegan-cooking-class/
SUMMARY:Vegan Cooking Class 
LOCATION:
DESCRIPTION:Love our food? Want to learn how to cook it? Kalyani will show you how to make some simple, delicious, healthy vegan meals, even if you don't think you're a whizz in the kitchen!$25 students, $30 regular followed by dinner.
END:VEVENT
END:VCALENDAR