BEGIN:VCALENDAR
PRODID:-//bhaktilounge.org.nz//EN
VERSION:2.0
METHOD:PUBLISH
BEGIN:VEVENT
DTSTART;TZID=America/New_York:20170721T170000
DTEND;TZID=America/New_York:20170723T160000
URL:http://bhaktilounge.org.nz/programmes/events/new-bhakti-event-4/
SUMMARY:Upcoming Retreat
LOCATION:
DESCRIPTION:Learn a range of meditation techniques amidst the peace and calm of an Otaki retreat centre! We'll also have yoga, bush walks, live music and delicious food :)$50 for early-bird payments before the 14th, otherwise $60. For more info email: isvarikesavi.dd@gmail.com
END:VEVENT
END:VCALENDAR