BEGIN:VCALENDAR
PRODID:-//bhaktilounge.org.nz//EN
VERSION:2.0
METHOD:PUBLISH
BEGIN:VEVENT
DTSTART;TZID=America/New_York:20170807T180000
DTEND;TZID=America/New_York:20170807T200000
URL:http://bhaktilounge.org.nz/programmes/events/winter-wellness-with-ayurveda/
SUMMARY:Winter Wellness with Ayurveda 
LOCATION:
DESCRIPTION:Our August Ayurveda workshop will be focusing on winter wellness, how to stay healthy when everyone around you has the snivels!
END:VEVENT
END:VCALENDAR