BEGIN:VCALENDAR
PRODID:-//bhaktilounge.org.nz//EN
VERSION:2.0
METHOD:PUBLISH
BEGIN:VEVENT
DTSTART;TZID=America/New_York:20170801T180000
DTEND;TZID=America/New_York:20170801T200000
URL:http://bhaktilounge.org.nz/programmes/events/insights-from-a-world-traveling-yogi-devamrita-swami/
SUMMARY:Insights from a World Traveling Yogi Devamrita Swami
LOCATION:
DESCRIPTION:It's time to think deeply about our life! Devamrita Swami will be exploring whether it's just a useless passion in the universe or actually has some great meaning to it? 
END:VEVENT
END:VCALENDAR