BEGIN:VCALENDAR
PRODID:-//bhaktilounge.org.nz//EN
VERSION:2.0
METHOD:PUBLISH
BEGIN:VEVENT
DTSTART;TZID=America/New_York:20170815T173000
DTEND;TZID=America/New_York:20170815T235900
URL:http://bhaktilounge.org.nz/programmes/events/the-festival-of-joy/
SUMMARY:The Festival of Joy 
LOCATION:
DESCRIPTION:The biggest party of Bhakti Lounge's year is coming up! We'll be going till midnight! There will be kirtan, dancing, great food, an enlivening play as well as other cool activities throughout the night. Come for a few hours or stay the whole evening - you might need to get...
END:VEVENT
END:VCALENDAR