BEGIN:VCALENDAR
PRODID:-//bhaktilounge.org.nz//EN
VERSION:2.0
METHOD:PUBLISH
BEGIN:VEVENT
DTSTART;TZID=America/New_York:20170904T180000
DTEND;TZID=America/New_York:20170904T200000
URL:http://bhaktilounge.org.nz/programmes/events/understanding-your-dreams/
SUMMARY:Understanding Your Dreams 
LOCATION:
DESCRIPTION:What do your dreams mean? What do they say about your health? Come for a workshop and discussion with Dr Namrata, an Ayurvedic doctor who can give some insights from almost two decades of practice.
END:VEVENT
END:VCALENDAR