BEGIN:VCALENDAR
PRODID:-//bhaktilounge.org.nz//EN
VERSION:2.0
METHOD:PUBLISH
BEGIN:VEVENT
DTSTART;TZID=America/New_York:20170908T173000
DTEND;TZID=America/New_York:20170910T160000
URL:http://bhaktilounge.org.nz/programmes/events/conscious-cooking-retreat/
SUMMARY:Conscious Cooking Retreat 
LOCATION:
DESCRIPTION:Want to learn how to cook?? We've got a fun packed weekend of vegan cooking, yoga, meditation, deep discussions, and a cooking obstacle course in beautiful Otaki!It's just $100 for waged, or $90 for students :)For more info email the girl on the poster cover isvarikesavi.dd@gmail.com or to book go...
END:VEVENT
END:VCALENDAR