BEGIN:VCALENDAR
PRODID:-//bhaktilounge.org.nz//EN
VERSION:2.0
METHOD:PUBLISH
BEGIN:VEVENT
DTSTART;TZID=America/New_York:20180114T174500
DTEND;TZID=America/New_York:20180114T203000
URL:http://bhaktilounge.org.nz/programmes/events/timetable-changes-for-feb-2018/
SUMMARY:Timetable changes for Feb 2018
LOCATION:
DESCRIPTION:Dear yogis,
END:VEVENT
END:VCALENDAR