BEGIN:VCALENDAR
PRODID:-//bhaktilounge.org.nz//EN
VERSION:2.0
METHOD:PUBLISH
BEGIN:VEVENT
DTSTART;TZID=America/New_York:20170416T200000
DTEND;TZID=America/New_York:20170417T
URL:http://bhaktilounge.org.nz/programmes/events/closed-over-chrismtas-and-new-years/
SUMMARY:Closed over Easter Weekend 
LOCATION:
DESCRIPTION:Bhakti Lounge will be closed Sunday 16th and Monday 17th of April, we hope you have a nice long weekend! 
END:VEVENT
END:VCALENDAR