BEGIN:VCALENDAR
PRODID:-//bhaktilounge.org.nz//EN
VERSION:2.0
METHOD:PUBLISH
BEGIN:VEVENT
DTSTART;TZID=America/New_York:20170314T180000
DTEND;TZID=America/New_York:20170328T
URL:http://bhaktilounge.org.nz/programmes/events/me-the-sweet-control-freak/
SUMMARY:Break Out of the Matrix
LOCATION:
DESCRIPTION:Break out of the matrix is our final tuesday topical workshop series, as topical workshop nights will be moving to mondays from April and beyond. In this series of workshops, learn what it takes to walk the path of freedom and reclaim your true identity beyond time and space! In...
END:VEVENT
END:VCALENDAR