BEGIN:VCALENDAR
PRODID:-//bhaktilounge.org.nz//EN
VERSION:2.0
METHOD:PUBLISH
BEGIN:VEVENT
DTSTART;TZID=America/New_York:20170324T160000
DTEND;TZID=America/New_York:20170326T
URL:http://bhaktilounge.org.nz/programmes/events/hear-a-travelling-monk/
SUMMARY:The Power of Sound Meditation Retreat!
LOCATION:
DESCRIPTION: 
END:VEVENT
END:VCALENDAR