BEGIN:VCALENDAR
PRODID:-//bhaktilounge.org.nz//EN
VERSION:2.0
METHOD:PUBLISH
BEGIN:VEVENT
DTSTART;TZID=America/New_York:20171112T160000
DTEND;TZID=America/New_York:20171112T220000
URL:http://bhaktilounge.org.nz/programmes/events/6hourkirtan/
SUMMARY:6 Hour Kirtan Soulfeast!
LOCATION:
DESCRIPTION:6 hours straight of live music and mantra chanting as the most soulful, uplifting, amping, heart-nourishing kind of meditation! This ain't no dry affair ;)
END:VEVENT
END:VCALENDAR