BEGIN:VCALENDAR
PRODID:-//bhaktilounge.org.nz//EN
VERSION:2.0
METHOD:PUBLISH
BEGIN:VEVENT
DTSTART;TZID=America/New_York:20171119T174500
DTEND;TZID=America/New_York:20171119T191000
URL:http://bhaktilounge.org.nz/programmes/events/deep-discussions-with-an-urban-monk/
SUMMARY:Deep Discussions with an Urban Monk
LOCATION:
DESCRIPTION:Sharing the wisdom of Bhakti yoga, Devamrita Swami, travelling monk and author of Hiding in Unnatural Happiness, is back in Wellington! 
END:VEVENT
END:VCALENDAR