BEGIN:VCALENDAR
PRODID:-//bhaktilounge.org.nz//EN
VERSION:2.0
METHOD:PUBLISH
BEGIN:VEVENT
DTSTART;TZID=America/New_York:20180129T180000
DTEND;TZID=America/New_York:20180129T191500
URL:http://bhaktilounge.org.nz/programmes/events/yoga-anatomy/
SUMMARY:Yoga Anatomy
LOCATION:
DESCRIPTION:
END:VEVENT
END:VCALENDAR