BEGIN:VCALENDAR
PRODID:-//bhaktilounge.org.nz//EN
VERSION:2.0
METHOD:PUBLISH
BEGIN:VEVENT
DTSTART;TZID=America/New_York:20160524T180000
DTEND;TZID=America/New_York:20160524T200000
URL:http://bhaktilounge.org.nz/programmes/events/tuesday-workshops/
SUMMARY:Tuesday Workshops 
LOCATION:
DESCRIPTION:Sachi Dulal will talk about various aspects of what Bhakti Yoga really is. He'll make you think, question and it all ends on with a delicious vegetarian meal! 
END:VEVENT
END:VCALENDAR