BEGIN:VCALENDAR
PRODID:-//bhaktilounge.org.nz//EN
VERSION:2.0
METHOD:PUBLISH
BEGIN:VEVENT
DTSTART;TZID=America/New_York:20160607T180000
DTEND;TZID=America/New_York:20160607T200000
URL:http://bhaktilounge.org.nz/programmes/events/ayurveda-workshops-this-june/
SUMMARY:Ayurveda Workshops this June! 
LOCATION:
DESCRIPTION:Tues 7th June Overview - what is Ayurveda? 
END:VEVENT
END:VCALENDAR