BEGIN:VCALENDAR
PRODID:-//bhaktilounge.org.nz//EN
VERSION:2.0
METHOD:PUBLISH
BEGIN:VEVENT
DTSTART;TZID=America/New_York:20160605T174500
DTEND;TZID=America/New_York:20160605T203000
URL:http://bhaktilounge.org.nz/programmes/events/open-queens-birthday-weekend/
SUMMARY:Open Queens Birthday Weekend 
LOCATION:
DESCRIPTION:We just wanted to let you know that we'll be open Queens Birthday Week - Sunday 5th June as well as Monday 6th June - look forward to seeing you then! 
END:VEVENT
END:VCALENDAR